BEGIN:VCALENDAR
VERSION:2.0
PRODID:-//Fishing The Good Fight - ECPv6.15.20//NONSGML v1.0//EN
CALSCALE:GREGORIAN
METHOD:PUBLISH
X-WR-CALNAME:Fishing The Good Fight
X-ORIGINAL-URL:https://www.fishingthegoodfight.org
X-WR-CALDESC:Events for Fishing The Good Fight
REFRESH-INTERVAL;VALUE=DURATION:PT1H
X-Robots-Tag:noindex
X-PUBLISHED-TTL:PT1H
BEGIN:VTIMEZONE
TZID:America/Denver
BEGIN:DAYLIGHT
TZOFFSETFROM:-0700
TZOFFSETTO:-0600
TZNAME:MDT
DTSTART:20250309T090000
END:DAYLIGHT
BEGIN:STANDARD
TZOFFSETFROM:-0600
TZOFFSETTO:-0700
TZNAME:MST
DTSTART:20251102T080000
END:STANDARD
BEGIN:DAYLIGHT
TZOFFSETFROM:-0700
TZOFFSETTO:-0600
TZNAME:MDT
DTSTART:20260308T090000
END:DAYLIGHT
BEGIN:STANDARD
TZOFFSETFROM:-0600
TZOFFSETTO:-0700
TZNAME:MST
DTSTART:20261101T080000
END:STANDARD
BEGIN:DAYLIGHT
TZOFFSETFROM:-0700
TZOFFSETTO:-0600
TZNAME:MDT
DTSTART:20270314T090000
END:DAYLIGHT
BEGIN:STANDARD
TZOFFSETFROM:-0600
TZOFFSETTO:-0700
TZNAME:MST
DTSTART:20271107T080000
END:STANDARD
END:VTIMEZONE
BEGIN:VEVENT
DTSTART;TZID=America/Denver:20260422T190000
DTEND;TZID=America/Denver:20260422T210000
DTSTAMP:20260422T063710
CREATED:20260413T200034Z
LAST-MODIFIED:20260413T200034Z
UID:10000100-1776884400-1776891600@www.fishingthegoodfight.org
SUMMARY:Denver Men's Night
DESCRIPTION:Fishing the Good Fight is launching its first peer-led men’s group—a casual\, supportive weeknight space for real connection. We’ll begin with a few easy icebreakers and then move into open conversation\, giving men a chance to talk honestly about life\, challenges\, and what’s on their minds. \nThis group is about mutual support\, not advice-giving or therapy. Just men showing up for one another in a respectful\, confidential space. \nFishing the Good Fight – Denver Men’s Night \n Wednesday\, April 22\, 7-9 PM MT\n Elevated Counseling Greenwood Village – 7350 E Progress Place\, Greenwood Village\, CO 80111 \nThis is a free event. We look forward to seeing you.
URL:https://www.fishingthegoodfight.org/event/denver-mens-night-2/
LOCATION:Elevated Counseling — Greenwood Village\, 7350 E Progress Place\, Greenwood Village\, Colorado\, 80111\, United States
ATTACH;FMTTYPE=image/jpeg:https://www.fishingthegoodfight.org/wp-content/uploads/2025/10/Copy-of-DSC05495-scaled.jpg
END:VEVENT
END:VCALENDAR